BEGIN:VCALENDAR
VERSION:2.0
PRODID:-//ChamberMaster//Event Calendar 2.0//EN
METHOD:PUBLISH
X-PUBLISHED-TTL:P3D
REFRESH-INTERVAL:P3D
CALSCALE:GREGORIAN
BEGIN:VEVENT
DTSTART:20250912T120000Z
DTEND:20250912T130000Z
X-MICROSOFT-CDO-ALLDAYEVENT:FALSE
SUMMARY:Coffee with a Purpose - Redwood Perrysburg Oregon Road
DESCRIPTION:Join the Perrysburg Chamber at Redwood Perrysburg Oregon Road!\n\n\n\nCome out and enjoy coffee\, snacks\, and networking with the team at Redwood!\n\n\n\nFriday\, September 12th\n\n\n\n8am-9am
X-ALT-DESC;FMTTYPE=text/html:Join the Perrysburg Chamber at Redwood Perrysburg Oregon Road!<br />\n<br />\nCome out and enjoy coffee\, snacks\, and networking with the team at Redwood!<br />\n<br />\nFriday\, September 12th<br />\n<br />\n8am-9am<br />\n&nbsp\;
LOCATION:28863 Oregon Road Perrysburg\, OH 43551
UID:e.3300.249
SEQUENCE:3
DTSTAMP:20260420T115404Z
URL:https://business.perrysburgchamber.com/events/details/coffee-with-a-purpose-redwood-perrysburg-oregon-road-249
END:VEVENT

END:VCALENDAR
