BEGIN:VCALENDAR
VERSION:2.0
PRODID:-//ChamberMaster//Event Calendar 2.0//EN
METHOD:PUBLISH
X-PUBLISHED-TTL:P3D
REFRESH-INTERVAL:P3D
CALSCALE:GREGORIAN
BEGIN:VEVENT
DTSTART:20260221T160000Z
DTEND:20260221T170000Z
X-MICROSOFT-CDO-ALLDAYEVENT:FALSE
SUMMARY:Downtown Perrysburg\, Inc. Winterfest and 300 Block Opening Ceremony
DESCRIPTION:Join the City of Perrysburg Downtown Perrysburg during DPI's Winterfest celebration as they unveil the new 300 Block during an opening ceremony.
X-ALT-DESC;FMTTYPE=text/html:Join the City of Perrysburg Downtown Perrysburg during DPI&#39\;s Winterfest celebration as they unveil the new 300 Block during an opening ceremony.
LOCATION:Downtown Perrysburg 300 Block
UID:e.3300.267
SEQUENCE:3
DTSTAMP:20260420T084952Z
URL:https://business.perrysburgchamber.com/events/details/downtown-perrysburg-inc-winterfest-and-300-block-opening-ceremony-267
END:VEVENT

END:VCALENDAR
