BEGIN:VCALENDAR
VERSION:2.0
PRODID:-//ChamberMaster//Event Calendar 2.0//EN
METHOD:PUBLISH
X-PUBLISHED-TTL:P3D
REFRESH-INTERVAL:P3D
CALSCALE:GREGORIAN
BEGIN:VEVENT
DTSTART:20260218T163000Z
DTEND:20260218T180000Z
X-MICROSOFT-CDO-ALLDAYEVENT:FALSE
SUMMARY:Perrysburg Chamber - February Luncheon
DESCRIPTION:What: Perrysburg Area Chamber of Commerce February Luncheon Meeting\n\n \n\nWhen: Wednesday\, February 18th\, doors open at 11:30am\, lunch begins at 12:00pm\n\n \n\nWhere: ***Belmont Country Club\, 29601 Bates Rd\, Perrysburg\, OH***\n\n\n\nDetails: $25/person luncheon fee.\n\nWe can now process a credit card via email invoice\, so if you want to pay in advance\, please let us know when you RSVP and we will send an invoice.  We prefer to use this method as much as possible moving forward.  Otherwise\, you can pay at the door with cash\, check\, or card.  Email tim.ansted@perrysburgchamber.com to RSVP.  Please RSVP by 5pm on Monday\, February 16th.
X-ALT-DESC;FMTTYPE=text/html:<strong>What:</strong> Perrysburg Area Chamber of Commerce February Luncheon Meeting<br />\n&nbsp\;<br />\n<strong>When:</strong> Wednesday\, February 18<sup>th</sup>\, doors open at 11:30am\, lunch begins at 12:00pm<br />\n&nbsp\;<br />\n<strong>Where:</strong> ***<strong><em>Belmont Country Club\, 29601 Bates Rd\, Perrysburg\, OH***</em></strong><br />\n<br />\n<strong>Details:</strong> $25/person luncheon fee.<br />\nWe can now process a credit card via email invoice\, so if you want to pay in advance\, please let us know when you RSVP and we will send an invoice.&nbsp\; We prefer to use this method as much as possible moving forward.&nbsp\; Otherwise\, you can pay at the door with cash\, check\, or card.&nbsp\; Email <a href="mailto:tim.ansted@perrysburgchamber.com">tim.ansted@perrysburgchamber.com</a> to RSVP.&nbsp\; Please RSVP by 5pm on Monday\, February 16<sup>th</sup>.
LOCATION:Belmont Country Club 29601 Bates Rd. Perrysburg\, OH 43551
UID:e.3300.268
SEQUENCE:3
DTSTAMP:20260420T084701Z
URL:https://business.perrysburgchamber.com/events/details/perrysburg-chamber-february-luncheon-268
END:VEVENT

END:VCALENDAR
