BEGIN:VCALENDAR
VERSION:2.0
PRODID:-//ChamberMaster//Event Calendar 2.0//EN
METHOD:PUBLISH
X-PUBLISHED-TTL:P3D
REFRESH-INTERVAL:P3D
CALSCALE:GREGORIAN
BEGIN:VEVENT
DTSTART:20260217T213000Z
DTEND:20260217T233000Z
X-MICROSOFT-CDO-ALLDAYEVENT:FALSE
SUMMARY:Tri-Chamber Business After Hours
DESCRIPTION:Join us at the Stroh Center on February 17th from 4:30 to 6:30 PM for an unforgettable gathering.\n\n\n\nWe're thrilled to bring together Chamber Investors from the Bowling Green Chamber of Commerce\, Maumee Chamber of Commerce\, and the Perrysburg Area Chamber of Commerce. Connect with fellow professionals\, make new friends\, and enjoy delicious refreshments. Plus\, you'll have the chance to win amazing door prizes!\n\n\n\nAs a special treat\, investors who RSVP will receive a ticket to watch the BGSU Men's basketball team take on Kent State that night at 7 PM. A huge thank you to BGSU Athletics for partnering with us to make this event possible!\n\n\n\nDon't miss out on this incredible opportunity to network and have fun. Please RSVP by February 12th at www.bgchamber.net/rsvp/\n\n\n\nWe can't wait to see you there!
X-ALT-DESC;FMTTYPE=text/html:<div class="xdj266r x14z9mp xat24cr x1lziwak x1vvkbs x126k92a" style="white-space: pre-wrap\; margin-inline: 0px\; overflow-wrap: break-word\; margin-bottom: 0px\; margin-top: 0px\; font-family: system-ui\, -apple-system\, BlinkMacSystemFont\, &quot\;.SFNSText-Regular&quot\;\, sans-serif\; caret-color: rgb(226\, 229\, 233)\; color: rgb(226\, 229\, 233)\; font-size: 15px\;">\n<div dir="auto" style="font-family: inherit\;"><span style="color:#000000\;">Join us at the Stroh Center on February 17th from 4:30 to 6:30 PM for an unforgettable gathering.</span></div>\n</div>\n\n<div class="x14z9mp xat24cr x1lziwak x1vvkbs xtlvy1s x126k92a" style="white-space: pre-wrap\; margin-inline: 0px\; overflow-wrap: break-word\; margin-bottom: 0px\; margin-top: 0.5em\; font-family: system-ui\, -apple-system\, BlinkMacSystemFont\, &quot\;.SFNSText-Regular&quot\;\, sans-serif\; caret-color: rgb(226\, 229\, 233)\; color: rgb(226\, 229\, 233)\; font-size: 15px\;">\n<div dir="auto" style="font-family: inherit\;"><span style="color:#000000\;">We&#39\;re thrilled to bring together Chamber Investors from the Bowling Green Chamber of Commerce\, </span><span class="html-span xdj266r x14z9mp xat24cr x1lziwak xexx8yu xyri2b x18d9i69 x1c1uobl x1hl2dhg x16tdsg8 x1vvkbs" style="margin-inline: 0px\; text-align: inherit\; padding-inline: 0px\; overflow-wrap: break-word\; padding-bottom: 0px\; margin-bottom: 0px\; margin-top: 0px\; padding-top: 0px\; font-family: inherit\;"><a attributionsrc="/privacy_sandbox/comet/register/source/?xt=AZaT7msSs4dkqW0oQ5AY8lhvlFmr5a_STRNeTSl3tKU8nGeA__HG9a3ZNgBAvqaA06Hhak1q-Ucnke2vKXd32rVLTvsVUjrqS5-Ilc022Nk0ugPcJksGTWdvKktbqHkzQERp5dQtNoRe1Gi2VX3L88S5RyidsTeDmutE4o94vV36nq10ETNVVDNG39zXQwTgwzxWVG6hPT5WL1QYkPCyCyHX2ew1WEBlvIfhpFxODoKBNpjGvQm1XkxlfTA6G6I_9K8tddqfGoHbkxmSObzyFEwRTBFXJoPsrJoSxCgWrs4YfGlHYBynoAb9dJiLPompQglMHmeM3Gs_t5Aw_2QaOZ4oLCFwwRUeb4I9uxgZ2Jemg0pmC3sm8T6SOBxs-AWrvGpT7_TSJJ3LUbp7OkDMe79Jj0V1Dwrc-1gHyFLche14StT8soEDkPP65BVzGQQ5ThsXQeMadJG-vNN9Ria6TTQYDKa8V__mhpyy4NV5LRu0mVn9QxKvxo3Tv65z_7uutGzHJ4tadrtwupEY21jXC1p_qvOzFaSTsYl_Z2jo-LQCeBPDDumc5-yLixcbKKHnMkMS6ZfvGbPZwwzTjYuNDETnM_phDi4crheukxICqmwKnHJUSIAhzDao7iOxhnwMy0rQWO-FuCu0eY-3ud1oyVthWwbtMa1umENCxMyPIHgdM-D9CDgnyLBRiNrwwSCUMGEWLbm9TVPa-QQs61J6oj5ebgUOCegDbktC9YZNPhsHIhBt2rhC-RW-Yt2sa_HOwFxSNeSf2DSPIiGgcSU4QJBS1drO8q0ZicJryEY4bHaa1yuGMvdJStT_ZSg5QRkjAnGm_eba0JifXyQeJIa6HJ1uc16VZgB4pzbWEvy6cfLDqas_ljgR5O82KgnuSdsFemGKNrXubM_UyFSS51Yxo3LcnkDaxL9mvOwFwnd3ht__q5s_eBdmifhKnim1Dw-4k15OGY_n3cyLhMU7Kc2u2ZpxmTA4tT3NpcVyqxxKrTOCgF71hrXBHyvVUMV6DRD9Y4-xVA6KSrRoPFi3plFBLorleTaSST0lgumAmgQXjQm9BaR5M8PnvNm1IVxrJ9kb3rn0GOlQd7YGQRDy7SycUOk1yk56iiBmbKYw6VLWBfZxv6JdBQvPC-yZCZZfqUqDPBZXVTSABUvTCC2dzLmfsGf5tVXQo1XL6EXbLnu4jzChzJv1W5LPyJb-NbnlNSf8Ow6ds_XvbMFUzPc56097AMLgmQznoVhLsPWaP9gI2jojc6Ho9Dv8iHHSzT0KR2W96GnifWfpvoue3pjIB4zJPKEBDql7mcmaYUZn0uKC3L9Dk7_tJQHtnoGAWf4NSPWw5oUGoebITCNhSbxmD9k_Cxf3l8lQNILRAIHEN7Rwe5ARZeXDgYFydAs74a6YVhFhxAKzoahf5_OPK8CHyVwNv8ujq6084_r8lk3NMOd-1nPZ6Nv2tJKqRhh5wzSSL71NfSh1GpTGG8tDVCxiQldocbac-97QaIHFMvNU4u-OlAom7RrFdibzoAucY3ucA-lvGAtoTwvpXsrQXjMFK3047_i5SBuzKClD7T78VwTyPaj-Vtrr-M6i-JvnqcR5MDwCOYdmyct_vIVR8k1Zokzk50EcrZ4Nt_UyQiYfYKleBlNI1c3sKk88GX0h7V9iug9MPZVkQN6ThJi0pdb9JD7tU6Mszvl_8ZOYmdGNFE4Uu1AZa_t4HL4VHMpx1KhVF1XB8jj8F6ibudL-THeg0GCluW9jrGH-MYSkGkXWqZtcCBtt3oa_KV29Npx4KQyDZlq67m_gysXUxq9AqYL3MwJy5wcgRpErfPRekmanqB_YkYU-oH_-t76QOM-jucLgvDzy4FHQ_etaFPDYmYmb5moHV_BHLH2XVhNxNzVEyxV0x9MvcEo0IEjkldpCAlg_PneFE0Vw0jgIW3JkhFpdprjVIkBhGavAFtitfpRu677npCKbY4CdWPHObl7CNSZUrZVwYdcqAZOT61JHTHaKtLbKoiJjXB2uj7BvsRVnpCmTKIBiqVQfiJw2ayTDIAhwF4ltw5ebxsQHX2k_4UAdSvvPjnyIwwO-8dZFBWKh68Q4n3iIpi28khqQ87tYnufJrSicXeezhfth0mX9k87IRhPGV4JdI6qiXjsPUn-zpfdEgPS0HQ" class="x1i10hfl xjbqb8w x1ejq31n x18oe1m7 x1sy0etr xstzfhl x972fbf x10w94by x1qhh985 x14e42zd x9f619 x1ypdohk xt0psk2 x3ct3a4 xdj266r x14z9mp xat24cr x1lziwak xexx8yu xyri2b x18d9i69 x1c1uobl x16tdsg8 x1hl2dhg xggy1nq x1a2a7pz xkrqix3 x1sur9pj x1fey0fg x1s688f" href="https://www.facebook.com/maumeechamber?__cft__[0]=AZZx3t_DVuWTFRKy_OSb5XLvuwdytAbOaYol2MSq-O-8e_GHFETIjs91GIWEtvdXBbkGH27NghHP5YT6txQlLn4P94lE3epwqrN5-D9Q3oJ7dJj1gy5l125QmhvKPcW3EziTSVJie3k_n9u4DDXCANCFXixelD64cdkQQxr2Qe8WAg&amp\;__tn__=-]K-R" role="link" style="color: rgb(226\, 229\, 233)\; cursor: pointer\; text-decoration: none\; outline: currentcolor\; border-inline-width: 0px\; margin-inline: 0px\; text-align: inherit\; border-inline-style: none\; padding-inline: 0px\; font-weight: 600\; list-style-type: none\; box-sizing: border-box\; touch-action: manipulation\; display: inline\; padding-bottom: 0px\; border-top-style: none\; border-bottom-width: 0px\; border-bottom-style: none\; border-top-width: 0px\; margin-bottom: 0px\; margin-top: 0px\; padding-top: 0px\; font-family: inherit\;" tabindex="0"><span style="color:#000000\;"><span class="xt0psk2" style="display: inline\; font-family: inherit\;">Maumee Chamber of Commerce</span></span></a></span><span style="color:#000000\;">\, and the </span><span class="html-span xdj266r x14z9mp xat24cr x1lziwak xexx8yu xyri2b x18d9i69 x1c1uobl x1hl2dhg x16tdsg8 x1vvkbs" style="margin-inline: 0px\; text-align: inherit\; padding-inline: 0px\; overflow-wrap: break-word\; padding-bottom: 0px\; margin-bottom: 0px\; margin-top: 0px\; padding-top: 0px\; font-family: inherit\;"><a attributionsrc="/privacy_sandbox/comet/register/source/?xt=AZaT7msSs4dkqW0oQ5AY8lhvlFmr5a_STRNeTSl3tKU8nGeA__HG9a3ZNgBAvqaA06Hhak1q-Ucnke2vKXd32rVLTvsVUjrqS5-Ilc022Nk0ugPcJksGTWdvKktbqHkzQERp5dQtNoRe1Gi2VX3L88S5RyidsTeDmutE4o94vV36nq10ETNVVDNG39zXQwTgwzxWVG6hPT5WL1QYkPCyCyHX2ew1WEBlvIfhpFxODoKBNpjGvQm1XkxlfTA6G6I_9K8tddqfGoHbkxmSObzyFEwRTBFXJoPsrJoSxCgWrs4YfGlHYBynoAb9dJiLPompQglMHmeM3Gs_t5Aw_2QaOZ4oLCFwwRUeb4I9uxgZ2Jemg0pmC3sm8T6SOBxs-AWrvGpT7_TSJJ3LUbp7OkDMe79Jj0V1Dwrc-1gHyFLche14StT8soEDkPP65BVzGQQ5ThsXQeMadJG-vNN9Ria6TTQYDKa8V__mhpyy4NV5LRu0mVn9QxKvxo3Tv65z_7uutGzHJ4tadrtwupEY21jXC1p_qvOzFaSTsYl_Z2jo-LQCeBPDDumc5-yLixcbKKHnMkMS6ZfvGbPZwwzTjYuNDETnM_phDi4crheukxICqmwKnHJUSIAhzDao7iOxhnwMy0rQWO-FuCu0eY-3ud1oyVthWwbtMa1umENCxMyPIHgdM-D9CDgnyLBRiNrwwSCUMGEWLbm9TVPa-QQs61J6oj5ebgUOCegDbktC9YZNPhsHIhBt2rhC-RW-Yt2sa_HOwFxSNeSf2DSPIiGgcSU4QJBS1drO8q0ZicJryEY4bHaa1yuGMvdJStT_ZSg5QRkjAnGm_eba0JifXyQeJIa6HJ1uc16VZgB4pzbWEvy6cfLDqas_ljgR5O82KgnuSdsFemGKNrXubM_UyFSS51Yxo3LcnkDaxL9mvOwFwnd3ht__q5s_eBdmifhKnim1Dw-4k15OGY_n3cyLhMU7Kc2u2ZpxmTA4tT3NpcVyqxxKrTOCgF71hrXBHyvVUMV6DRD9Y4-xVA6KSrRoPFi3plFBLorleTaSST0lgumAmgQXjQm9BaR5M8PnvNm1IVxrJ9kb3rn0GOlQd7YGQRDy7SycUOk1yk56iiBmbKYw6VLWBfZxv6JdBQvPC-yZCZZfqUqDPBZXVTSABUvTCC2dzLmfsGf5tVXQo1XL6EXbLnu4jzChzJv1W5LPyJb-NbnlNSf8Ow6ds_XvbMFUzPc56097AMLgmQznoVhLsPWaP9gI2jojc6Ho9Dv8iHHSzT0KR2W96GnifWfpvoue3pjIB4zJPKEBDql7mcmaYUZn0uKC3L9Dk7_tJQHtnoGAWf4NSPWw5oUGoebITCNhSbxmD9k_Cxf3l8lQNILRAIHEN7Rwe5ARZeXDgYFydAs74a6YVhFhxAKzoahf5_OPK8CHyVwNv8ujq6084_r8lk3NMOd-1nPZ6Nv2tJKqRhh5wzSSL71NfSh1GpTGG8tDVCxiQldocbac-97QaIHFMvNU4u-OlAom7RrFdibzoAucY3ucA-lvGAtoTwvpXsrQXjMFK3047_i5SBuzKClD7T78VwTyPaj-Vtrr-M6i-JvnqcR5MDwCOYdmyct_vIVR8k1Zokzk50EcrZ4Nt_UyQiYfYKleBlNI1c3sKk88GX0h7V9iug9MPZVkQN6ThJi0pdb9JD7tU6Mszvl_8ZOYmdGNFE4Uu1AZa_t4HL4VHMpx1KhVF1XB8jj8F6ibudL-THeg0GCluW9jrGH-MYSkGkXWqZtcCBtt3oa_KV29Npx4KQyDZlq67m_gysXUxq9AqYL3MwJy5wcgRpErfPRekmanqB_YkYU-oH_-t76QOM-jucLgvDzy4FHQ_etaFPDYmYmb5moHV_BHLH2XVhNxNzVEyxV0x9MvcEo0IEjkldpCAlg_PneFE0Vw0jgIW3JkhFpdprjVIkBhGavAFtitfpRu677npCKbY4CdWPHObl7CNSZUrZVwYdcqAZOT61JHTHaKtLbKoiJjXB2uj7BvsRVnpCmTKIBiqVQfiJw2ayTDIAhwF4ltw5ebxsQHX2k_4UAdSvvPjnyIwwO-8dZFBWKh68Q4n3iIpi28khqQ87tYnufJrSicXeezhfth0mX9k87IRhPGV4JdI6qiXjsPUn-zpfdEgPS0HQ" class="x1i10hfl xjbqb8w x1ejq31n x18oe1m7 x1sy0etr xstzfhl x972fbf x10w94by x1qhh985 x14e42zd x9f619 x1ypdohk xt0psk2 x3ct3a4 xdj266r x14z9mp xat24cr x1lziwak xexx8yu xyri2b x18d9i69 x1c1uobl x16tdsg8 x1hl2dhg xggy1nq x1a2a7pz xkrqix3 x1sur9pj x1fey0fg x1s688f" href="https://www.facebook.com/PerrysburgChamber?__cft__[0]=AZZx3t_DVuWTFRKy_OSb5XLvuwdytAbOaYol2MSq-O-8e_GHFETIjs91GIWEtvdXBbkGH27NghHP5YT6txQlLn4P94lE3epwqrN5-D9Q3oJ7dJj1gy5l125QmhvKPcW3EziTSVJie3k_n9u4DDXCANCFXixelD64cdkQQxr2Qe8WAg&amp\;__tn__=-]K-R" role="link" style="color: rgb(226\, 229\, 233)\; cursor: pointer\; text-decoration: none\; outline: currentcolor\; border-inline-width: 0px\; margin-inline: 0px\; text-align: inherit\; border-inline-style: none\; padding-inline: 0px\; font-weight: 600\; list-style-type: none\; box-sizing: border-box\; touch-action: manipulation\; display: inline\; padding-bottom: 0px\; border-top-style: none\; border-bottom-width: 0px\; border-bottom-style: none\; border-top-width: 0px\; margin-bottom: 0px\; margin-top: 0px\; padding-top: 0px\; font-family: inherit\;" tabindex="0"><span style="color:#000000\;"><span class="xt0psk2" style="display: inline\; font-family: inherit\;">Perrysburg Area Chamber of Commerce</span></span></a></span><span style="color:#000000\;">. Connect with fellow professionals\, make new friends\, and enjoy delicious refreshments. Plus\, you&rsquo\;ll have the chance to win amazing door prizes!</span></div>\n</div>\n\n<div class="x14z9mp xat24cr x1lziwak x1vvkbs xtlvy1s x126k92a" style="white-space: pre-wrap\; margin-inline: 0px\; overflow-wrap: break-word\; margin-bottom: 0px\; margin-top: 0.5em\; font-family: system-ui\, -apple-system\, BlinkMacSystemFont\, &quot\;.SFNSText-Regular&quot\;\, sans-serif\; caret-color: rgb(226\, 229\, 233)\; color: rgb(226\, 229\, 233)\; font-size: 15px\;">\n<div dir="auto" style="font-family: inherit\;"><span style="color:#000000\;">As a special treat\, investors who RSVP will receive a ticket to watch the BGSU Men&#39\;s basketball team take on Kent State that night at 7 PM. A huge thank you to </span><span class="html-span xdj266r x14z9mp xat24cr x1lziwak xexx8yu xyri2b x18d9i69 x1c1uobl x1hl2dhg x16tdsg8 x1vvkbs" style="margin-inline: 0px\; text-align: inherit\; padding-inline: 0px\; overflow-wrap: break-word\; padding-bottom: 0px\; margin-bottom: 0px\; margin-top: 0px\; padding-top: 0px\; font-family: inherit\;"><a attributionsrc="/privacy_sandbox/comet/register/source/?xt=AZaT7msSs4dkqW0oQ5AY8lhvlFmr5a_STRNeTSl3tKU8nGeA__HG9a3ZNgBAvqaA06Hhak1q-Ucnke2vKXd32rVLTvsVUjrqS5-Ilc022Nk0ugPcJksGTWdvKktbqHkzQERp5dQtNoRe1Gi2VX3L88S5RyidsTeDmutE4o94vV36nq10ETNVVDNG39zXQwTgwzxWVG6hPT5WL1QYkPCyCyHX2ew1WEBlvIfhpFxODoKBNpjGvQm1XkxlfTA6G6I_9K8tddqfGoHbkxmSObzyFEwRTBFXJoPsrJoSxCgWrs4YfGlHYBynoAb9dJiLPompQglMHmeM3Gs_t5Aw_2QaOZ4oLCFwwRUeb4I9uxgZ2Jemg0pmC3sm8T6SOBxs-AWrvGpT7_TSJJ3LUbp7OkDMe79Jj0V1Dwrc-1gHyFLche14StT8soEDkPP65BVzGQQ5ThsXQeMadJG-vNN9Ria6TTQYDKa8V__mhpyy4NV5LRu0mVn9QxKvxo3Tv65z_7uutGzHJ4tadrtwupEY21jXC1p_qvOzFaSTsYl_Z2jo-LQCeBPDDumc5-yLixcbKKHnMkMS6ZfvGbPZwwzTjYuNDETnM_phDi4crheukxICqmwKnHJUSIAhzDao7iOxhnwMy0rQWO-FuCu0eY-3ud1oyVthWwbtMa1umENCxMyPIHgdM-D9CDgnyLBRiNrwwSCUMGEWLbm9TVPa-QQs61J6oj5ebgUOCegDbktC9YZNPhsHIhBt2rhC-RW-Yt2sa_HOwFxSNeSf2DSPIiGgcSU4QJBS1drO8q0ZicJryEY4bHaa1yuGMvdJStT_ZSg5QRkjAnGm_eba0JifXyQeJIa6HJ1uc16VZgB4pzbWEvy6cfLDqas_ljgR5O82KgnuSdsFemGKNrXubM_UyFSS51Yxo3LcnkDaxL9mvOwFwnd3ht__q5s_eBdmifhKnim1Dw-4k15OGY_n3cyLhMU7Kc2u2ZpxmTA4tT3NpcVyqxxKrTOCgF71hrXBHyvVUMV6DRD9Y4-xVA6KSrRoPFi3plFBLorleTaSST0lgumAmgQXjQm9BaR5M8PnvNm1IVxrJ9kb3rn0GOlQd7YGQRDy7SycUOk1yk56iiBmbKYw6VLWBfZxv6JdBQvPC-yZCZZfqUqDPBZXVTSABUvTCC2dzLmfsGf5tVXQo1XL6EXbLnu4jzChzJv1W5LPyJb-NbnlNSf8Ow6ds_XvbMFUzPc56097AMLgmQznoVhLsPWaP9gI2jojc6Ho9Dv8iHHSzT0KR2W96GnifWfpvoue3pjIB4zJPKEBDql7mcmaYUZn0uKC3L9Dk7_tJQHtnoGAWf4NSPWw5oUGoebITCNhSbxmD9k_Cxf3l8lQNILRAIHEN7Rwe5ARZeXDgYFydAs74a6YVhFhxAKzoahf5_OPK8CHyVwNv8ujq6084_r8lk3NMOd-1nPZ6Nv2tJKqRhh5wzSSL71NfSh1GpTGG8tDVCxiQldocbac-97QaIHFMvNU4u-OlAom7RrFdibzoAucY3ucA-lvGAtoTwvpXsrQXjMFK3047_i5SBuzKClD7T78VwTyPaj-Vtrr-M6i-JvnqcR5MDwCOYdmyct_vIVR8k1Zokzk50EcrZ4Nt_UyQiYfYKleBlNI1c3sKk88GX0h7V9iug9MPZVkQN6ThJi0pdb9JD7tU6Mszvl_8ZOYmdGNFE4Uu1AZa_t4HL4VHMpx1KhVF1XB8jj8F6ibudL-THeg0GCluW9jrGH-MYSkGkXWqZtcCBtt3oa_KV29Npx4KQyDZlq67m_gysXUxq9AqYL3MwJy5wcgRpErfPRekmanqB_YkYU-oH_-t76QOM-jucLgvDzy4FHQ_etaFPDYmYmb5moHV_BHLH2XVhNxNzVEyxV0x9MvcEo0IEjkldpCAlg_PneFE0Vw0jgIW3JkhFpdprjVIkBhGavAFtitfpRu677npCKbY4CdWPHObl7CNSZUrZVwYdcqAZOT61JHTHaKtLbKoiJjXB2uj7BvsRVnpCmTKIBiqVQfiJw2ayTDIAhwF4ltw5ebxsQHX2k_4UAdSvvPjnyIwwO-8dZFBWKh68Q4n3iIpi28khqQ87tYnufJrSicXeezhfth0mX9k87IRhPGV4JdI6qiXjsPUn-zpfdEgPS0HQ" class="x1i10hfl xjbqb8w x1ejq31n x18oe1m7 x1sy0etr xstzfhl x972fbf x10w94by x1qhh985 x14e42zd x9f619 x1ypdohk xt0psk2 x3ct3a4 xdj266r x14z9mp xat24cr x1lziwak xexx8yu xyri2b x18d9i69 x1c1uobl x16tdsg8 x1hl2dhg xggy1nq x1a2a7pz xkrqix3 x1sur9pj x1fey0fg x1s688f" href="https://www.facebook.com/BGFalcons?__cft__[0]=AZZx3t_DVuWTFRKy_OSb5XLvuwdytAbOaYol2MSq-O-8e_GHFETIjs91GIWEtvdXBbkGH27NghHP5YT6txQlLn4P94lE3epwqrN5-D9Q3oJ7dJj1gy5l125QmhvKPcW3EziTSVJie3k_n9u4DDXCANCFXixelD64cdkQQxr2Qe8WAg&amp\;__tn__=-]K-R" role="link" style="color: rgb(226\, 229\, 233)\; cursor: pointer\; text-decoration: none\; outline: currentcolor\; border-inline-width: 0px\; margin-inline: 0px\; text-align: inherit\; border-inline-style: none\; padding-inline: 0px\; font-weight: 600\; list-style-type: none\; box-sizing: border-box\; touch-action: manipulation\; display: inline\; padding-bottom: 0px\; border-top-style: none\; border-bottom-width: 0px\; border-bottom-style: none\; border-top-width: 0px\; margin-bottom: 0px\; margin-top: 0px\; padding-top: 0px\; font-family: inherit\;" tabindex="0"><span style="color:#000000\;"><span class="xt0psk2" style="display: inline\; font-family: inherit\;">BGSU Athletics</span></span></a></span><span style="color:#000000\;"> for partnering with us to make this event possible!</span></div>\n</div>\n\n<div class="x14z9mp xat24cr x1lziwak x1vvkbs xtlvy1s x126k92a" style="white-space: pre-wrap\; margin-inline: 0px\; overflow-wrap: break-word\; margin-bottom: 0px\; margin-top: 0.5em\; font-family: system-ui\, -apple-system\, BlinkMacSystemFont\, &quot\;.SFNSText-Regular&quot\;\, sans-serif\; caret-color: rgb(226\, 229\, 233)\; color: rgb(226\, 229\, 233)\; font-size: 15px\;">\n<div dir="auto" style="font-family: inherit\;"><span style="color:#000000\;">Don&#39\;t miss out on this incredible opportunity to network and have fun. Please RSVP by February 12th at </span><span class="html-span xdj266r x14z9mp xat24cr x1lziwak xexx8yu xyri2b x18d9i69 x1c1uobl x1hl2dhg x16tdsg8 x1vvkbs" style="margin-inline: 0px\; text-align: inherit\; padding-inline: 0px\; overflow-wrap: break-word\; padding-bottom: 0px\; margin-bottom: 0px\; margin-top: 0px\; padding-top: 0px\; font-family: inherit\;"><a attributionsrc="/privacy_sandbox/comet/register/source/?xt=AZaT7msSs4dkqW0oQ5AY8lhvlFmr5a_STRNeTSl3tKU8nGeA__HG9a3ZNgBAvqaA06Hhak1q-Ucnke2vKXd32rVLTvsVUjrqS5-Ilc022Nk0ugPcJksGTWdvKktbqHkzQERp5dQtNoRe1Gi2VX3L88S5RyidsTeDmutE4o94vV36nq10ETNVVDNG39zXQwTgwzxWVG6hPT5WL1QYkPCyCyHX2ew1WEBlvIfhpFxODoKBNpjGvQm1XkxlfTA6G6I_9K8tddqfGoHbkxmSObzyFEwRTBFXJoPsrJoSxCgWrs4YfGlHYBynoAb9dJiLPompQglMHmeM3Gs_t5Aw_2QaOZ4oLCFwwRUeb4I9uxgZ2Jemg0pmC3sm8T6SOBxs-AWrvGpT7_TSJJ3LUbp7OkDMe79Jj0V1Dwrc-1gHyFLche14StT8soEDkPP65BVzGQQ5ThsXQeMadJG-vNN9Ria6TTQYDKa8V__mhpyy4NV5LRu0mVn9QxKvxo3Tv65z_7uutGzHJ4tadrtwupEY21jXC1p_qvOzFaSTsYl_Z2jo-LQCeBPDDumc5-yLixcbKKHnMkMS6ZfvGbPZwwzTjYuNDETnM_phDi4crheukxICqmwKnHJUSIAhzDao7iOxhnwMy0rQWO-FuCu0eY-3ud1oyVthWwbtMa1umENCxMyPIHgdM-D9CDgnyLBRiNrwwSCUMGEWLbm9TVPa-QQs61J6oj5ebgUOCegDbktC9YZNPhsHIhBt2rhC-RW-Yt2sa_HOwFxSNeSf2DSPIiGgcSU4QJBS1drO8q0ZicJryEY4bHaa1yuGMvdJStT_ZSg5QRkjAnGm_eba0JifXyQeJIa6HJ1uc16VZgB4pzbWEvy6cfLDqas_ljgR5O82KgnuSdsFemGKNrXubM_UyFSS51Yxo3LcnkDaxL9mvOwFwnd3ht__q5s_eBdmifhKnim1Dw-4k15OGY_n3cyLhMU7Kc2u2ZpxmTA4tT3NpcVyqxxKrTOCgF71hrXBHyvVUMV6DRD9Y4-xVA6KSrRoPFi3plFBLorleTaSST0lgumAmgQXjQm9BaR5M8PnvNm1IVxrJ9kb3rn0GOlQd7YGQRDy7SycUOk1yk56iiBmbKYw6VLWBfZxv6JdBQvPC-yZCZZfqUqDPBZXVTSABUvTCC2dzLmfsGf5tVXQo1XL6EXbLnu4jzChzJv1W5LPyJb-NbnlNSf8Ow6ds_XvbMFUzPc56097AMLgmQznoVhLsPWaP9gI2jojc6Ho9Dv8iHHSzT0KR2W96GnifWfpvoue3pjIB4zJPKEBDql7mcmaYUZn0uKC3L9Dk7_tJQHtnoGAWf4NSPWw5oUGoebITCNhSbxmD9k_Cxf3l8lQNILRAIHEN7Rwe5ARZeXDgYFydAs74a6YVhFhxAKzoahf5_OPK8CHyVwNv8ujq6084_r8lk3NMOd-1nPZ6Nv2tJKqRhh5wzSSL71NfSh1GpTGG8tDVCxiQldocbac-97QaIHFMvNU4u-OlAom7RrFdibzoAucY3ucA-lvGAtoTwvpXsrQXjMFK3047_i5SBuzKClD7T78VwTyPaj-Vtrr-M6i-JvnqcR5MDwCOYdmyct_vIVR8k1Zokzk50EcrZ4Nt_UyQiYfYKleBlNI1c3sKk88GX0h7V9iug9MPZVkQN6ThJi0pdb9JD7tU6Mszvl_8ZOYmdGNFE4Uu1AZa_t4HL4VHMpx1KhVF1XB8jj8F6ibudL-THeg0GCluW9jrGH-MYSkGkXWqZtcCBtt3oa_KV29Npx4KQyDZlq67m_gysXUxq9AqYL3MwJy5wcgRpErfPRekmanqB_YkYU-oH_-t76QOM-jucLgvDzy4FHQ_etaFPDYmYmb5moHV_BHLH2XVhNxNzVEyxV0x9MvcEo0IEjkldpCAlg_PneFE0Vw0jgIW3JkhFpdprjVIkBhGavAFtitfpRu677npCKbY4CdWPHObl7CNSZUrZVwYdcqAZOT61JHTHaKtLbKoiJjXB2uj7BvsRVnpCmTKIBiqVQfiJw2ayTDIAhwF4ltw5ebxsQHX2k_4UAdSvvPjnyIwwO-8dZFBWKh68Q4n3iIpi28khqQ87tYnufJrSicXeezhfth0mX9k87IRhPGV4JdI6qiXjsPUn-zpfdEgPS0HQ" class="x1i10hfl xjbqb8w x1ejq31n x18oe1m7 x1sy0etr xstzfhl x972fbf x10w94by x1qhh985 x14e42zd x9f619 x1ypdohk xt0psk2 x3ct3a4 xdj266r x14z9mp xat24cr x1lziwak xexx8yu xyri2b x18d9i69 x1c1uobl x16tdsg8 x1hl2dhg xggy1nq x1a2a7pz xkrqix3 x1sur9pj x1fey0fg x1s688f" href="http://www.bgchamber.net/rsvp/?fbclid=IwZXh0bgNhZW0CMTAAYnJpZBExOG43S0VoYjVuZnlRMzJkNnNydGMGYXBwX2lkEDIyMjAzOTE3ODgyMDA4OTIAAR5-0MqWlghwcCvrGFKNcHdm_AlLV3QzqnDnvqNtPUJYXIKrlNI9KQe5QC41Lw_aem_dZIqo0fEV7-Y3522I-Xhyg" rel="nofollow noreferrer" role="link" style="color: rgb(226\, 229\, 233)\; cursor: pointer\; text-decoration: none\; outline: currentcolor\; border-inline-width: 0px\; margin-inline: 0px\; text-align: inherit\; border-inline-style: none\; padding-inline: 0px\; font-weight: 600\; list-style-type: none\; box-sizing: border-box\; touch-action: manipulation\; display: inline\; padding-bottom: 0px\; border-top-style: none\; border-bottom-width: 0px\; border-bottom-style: none\; border-top-width: 0px\; margin-bottom: 0px\; margin-top: 0px\; padding-top: 0px\; font-family: inherit\;" tabindex="0" target="_blank"><span style="color:#000000\;">www.bgchamber.net/rsvp/</span></a></span></div>\n</div>\n\n<div class="x14z9mp xat24cr x1lziwak x1vvkbs xtlvy1s x126k92a" style="white-space: pre-wrap\; margin-inline: 0px\; overflow-wrap: break-word\; margin-bottom: 0px\; margin-top: 0.5em\; font-family: system-ui\, -apple-system\, BlinkMacSystemFont\, &quot\;.SFNSText-Regular&quot\;\, sans-serif\; caret-color: rgb(226\, 229\, 233)\; color: rgb(226\, 229\, 233)\; font-size: 15px\;">\n<div dir="auto" style="font-family: inherit\;"><span style="color:#000000\;">We can&rsquo\;t wait to see you there!</span></div>\n</div>\n
LOCATION:Stroh Center 1535 E. Wooster St Bowling Green\, OH 43403
UID:e.3300.271
SEQUENCE:3
DTSTAMP:20260420T090258Z
URL:https://business.perrysburgchamber.com/events/details/tri-chamber-business-after-hours-271
END:VEVENT

END:VCALENDAR
